BEGIN:VCALENDAR
VERSION:2.0
PRODID:-//Mid-Atlantic Construction Safety Council - ECPv6.15.20//NONSGML v1.0//EN
CALSCALE:GREGORIAN
METHOD:PUBLISH
X-ORIGINAL-URL:https://macsc.org
X-WR-CALDESC:Events for Mid-Atlantic Construction Safety Council
REFRESH-INTERVAL;VALUE=DURATION:PT1H
X-Robots-Tag:noindex
X-PUBLISHED-TTL:PT1H
BEGIN:VTIMEZONE
TZID:America/New_York
BEGIN:DAYLIGHT
TZOFFSETFROM:-0500
TZOFFSETTO:-0400
TZNAME:EDT
DTSTART:20220313T070000
END:DAYLIGHT
BEGIN:STANDARD
TZOFFSETFROM:-0400
TZOFFSETTO:-0500
TZNAME:EST
DTSTART:20221106T060000
END:STANDARD
BEGIN:DAYLIGHT
TZOFFSETFROM:-0500
TZOFFSETTO:-0400
TZNAME:EDT
DTSTART:20230312T070000
END:DAYLIGHT
BEGIN:STANDARD
TZOFFSETFROM:-0400
TZOFFSETTO:-0500
TZNAME:EST
DTSTART:20231105T060000
END:STANDARD
BEGIN:DAYLIGHT
TZOFFSETFROM:-0500
TZOFFSETTO:-0400
TZNAME:EDT
DTSTART:20240310T070000
END:DAYLIGHT
BEGIN:STANDARD
TZOFFSETFROM:-0400
TZOFFSETTO:-0500
TZNAME:EST
DTSTART:20241103T060000
END:STANDARD
END:VTIMEZONE
BEGIN:VEVENT
DTSTART;VALUE=DATE:20231022
DTEND;VALUE=DATE:20231025
DTSTAMP:20260425T070245
CREATED:20230726T155929Z
LAST-MODIFIED:20230918T191734Z
UID:5661-1697932800-1698191999@macsc.org
SUMMARY:GOSH Conference
DESCRIPTION:The safety industry is constantly expanding and evolving. That’s why safety professionals attend the GOSH Conference. \nFor over 90 years\, the GOSH Conference has educated and empowered safety professionals\, employers\, and employees throughout the Commonwealth. More than 80\,000 business and labor professionals have come together to learn\, share information\, and network to make Pennsylvania a safer place to work.  \nGOSH 2023 registration is now open!
URL:https://macsc.org/event/gosh-conference/
LOCATION:Hershey Lodge\, 325 University Dr\, Hershey\, PA\, 19147\, United States
END:VEVENT
END:VCALENDAR