BEGIN:VCALENDAR
VERSION:2.0
PRODID:-//Mid-Atlantic Construction Safety Council - ECPv6.15.20//NONSGML v1.0//EN
CALSCALE:GREGORIAN
METHOD:PUBLISH
X-ORIGINAL-URL:https://macsc.org
X-WR-CALDESC:Events for Mid-Atlantic Construction Safety Council
REFRESH-INTERVAL;VALUE=DURATION:PT1H
X-Robots-Tag:noindex
X-PUBLISHED-TTL:PT1H
BEGIN:VTIMEZONE
TZID:America/New_York
BEGIN:DAYLIGHT
TZOFFSETFROM:-0500
TZOFFSETTO:-0400
TZNAME:EDT
DTSTART:20220313T070000
END:DAYLIGHT
BEGIN:STANDARD
TZOFFSETFROM:-0400
TZOFFSETTO:-0500
TZNAME:EST
DTSTART:20221106T060000
END:STANDARD
BEGIN:DAYLIGHT
TZOFFSETFROM:-0500
TZOFFSETTO:-0400
TZNAME:EDT
DTSTART:20230312T070000
END:DAYLIGHT
BEGIN:STANDARD
TZOFFSETFROM:-0400
TZOFFSETTO:-0500
TZNAME:EST
DTSTART:20231105T060000
END:STANDARD
BEGIN:DAYLIGHT
TZOFFSETFROM:-0500
TZOFFSETTO:-0400
TZNAME:EDT
DTSTART:20240310T070000
END:DAYLIGHT
BEGIN:STANDARD
TZOFFSETFROM:-0400
TZOFFSETTO:-0500
TZNAME:EST
DTSTART:20241103T060000
END:STANDARD
END:VTIMEZONE
BEGIN:VEVENT
DTSTART;TZID=America/New_York:20231025T140000
DTEND;TZID=America/New_York:20231025T150000
DTSTAMP:20260421T172854
CREATED:20231020T145112Z
LAST-MODIFIED:20231020T145729Z
UID:5849-1698242400-1698246000@macsc.org
SUMMARY:Unleashing Safety Leadership: Navigating Accountability and Compliance (OH&S webinar series)
DESCRIPTION:Embark on a transformative exploration of safety leadership in this engaging session\, where we delve into strategies for cultivating accountability\, compliance\, and effective auditing practices. Learn how to empower operational managers to become safety advocates and drive performance. Discover methods to navigate the intricate landscape of holding leadership teams accountable for operational excellence\, which includes safety and client expectations. Join us as we unravel the art of balancing consistency\, adaptability\, and thorough auditing in health and safety management systems\, leaving you with actionable insights to change your approach. \n Cost: Complimentary webinar \n  \nClick to register and read more >>>
URL:https://macsc.org/event/unleashing-safety-leadership-navigating-accountability-and-compliance-ohs-webinar-series/
LOCATION:Webinar
CATEGORIES:Training
END:VEVENT
END:VCALENDAR