BEGIN:VCALENDAR
VERSION:2.0
PRODID:-//Mid-Atlantic Construction Safety Council - ECPv6.15.20//NONSGML v1.0//EN
CALSCALE:GREGORIAN
METHOD:PUBLISH
X-ORIGINAL-URL:https://macsc.org
X-WR-CALDESC:Events for Mid-Atlantic Construction Safety Council
REFRESH-INTERVAL;VALUE=DURATION:PT1H
X-Robots-Tag:noindex
X-PUBLISHED-TTL:PT1H
BEGIN:VTIMEZONE
TZID:America/New_York
BEGIN:DAYLIGHT
TZOFFSETFROM:-0500
TZOFFSETTO:-0400
TZNAME:EDT
DTSTART:20220313T070000
END:DAYLIGHT
BEGIN:STANDARD
TZOFFSETFROM:-0400
TZOFFSETTO:-0500
TZNAME:EST
DTSTART:20221106T060000
END:STANDARD
BEGIN:DAYLIGHT
TZOFFSETFROM:-0500
TZOFFSETTO:-0400
TZNAME:EDT
DTSTART:20230312T070000
END:DAYLIGHT
BEGIN:STANDARD
TZOFFSETFROM:-0400
TZOFFSETTO:-0500
TZNAME:EST
DTSTART:20231105T060000
END:STANDARD
BEGIN:DAYLIGHT
TZOFFSETFROM:-0500
TZOFFSETTO:-0400
TZNAME:EDT
DTSTART:20240310T070000
END:DAYLIGHT
BEGIN:STANDARD
TZOFFSETFROM:-0400
TZOFFSETTO:-0500
TZNAME:EST
DTSTART:20241103T060000
END:STANDARD
END:VTIMEZONE
BEGIN:VEVENT
DTSTART;TZID=America/New_York:20231120T080000
DTEND;TZID=America/New_York:20231120T170000
DTSTAMP:20260421T054505
CREATED:20231120T165908Z
LAST-MODIFIED:20231120T165908Z
UID:5924-1700467200-1700499600@macsc.org
SUMMARY:Webinar - Designer Obligations; Pennsylvania One Call
DESCRIPTION:Are you an architect\, engineer or other person who or which prepares a drawing for a construction\, or other projects which requires excavation or demolition work in Pennsylvania? Then you are considered a Designer under the PA Underground Utility Line Protection Act 287 as Amended (Pennsylvania 811 Law). This one-hour WebEx webinar will explain all the Designer obligations in Pennsylvania 811 Law. This course is equal to 1 PDH for Professional Engineering Training. If you would like a certificate of participation\, please wait 5 days after the event and then login to Pennsylvania 811’s website\, select My Account and then My Participation to print your certificate. \n\n\nPlease be aware that this webinar platform enables 100 people to attend first come\, first served. Please review our Events Calendar for other opportunities if this webinar is full. \nClick Here to Join the Meeting \nMeeting number:\n2631 888 8566\nPassword:\nVGsJf3Q9SD3 (84753379 from phones and video systems)\nHost key:\n117397\nJoin by video system\nDial 26318888566@webex.com\nYou can also dial 173.243.2.68 and enter your meeting number.\nJoin by phone\n+1-408-418-9388 United States Toll\nAccess code: 2631 888 8566\nHost PIN: 1219 \n\n\n\n\n\nWhen\n12/19/2023 1:00 PM – 2:00 PM
URL:https://macsc.org/event/webinar-designer-obligations-pennsylvania-one-call/
LOCATION:PA
CATEGORIES:Training
END:VEVENT
END:VCALENDAR