BEGIN:VCALENDAR
VERSION:2.0
PRODID:-//Mid-Atlantic Construction Safety Council - ECPv6.15.20//NONSGML v1.0//EN
CALSCALE:GREGORIAN
METHOD:PUBLISH
X-WR-CALNAME:Mid-Atlantic Construction Safety Council
X-ORIGINAL-URL:https://macsc.org
X-WR-CALDESC:Events for Mid-Atlantic Construction Safety Council
REFRESH-INTERVAL;VALUE=DURATION:PT1H
X-Robots-Tag:noindex
X-PUBLISHED-TTL:PT1H
BEGIN:VTIMEZONE
TZID:America/New_York
BEGIN:DAYLIGHT
TZOFFSETFROM:-0500
TZOFFSETTO:-0400
TZNAME:EDT
DTSTART:20230312T070000
END:DAYLIGHT
BEGIN:STANDARD
TZOFFSETFROM:-0400
TZOFFSETTO:-0500
TZNAME:EST
DTSTART:20231105T060000
END:STANDARD
BEGIN:DAYLIGHT
TZOFFSETFROM:-0500
TZOFFSETTO:-0400
TZNAME:EDT
DTSTART:20240310T070000
END:DAYLIGHT
BEGIN:STANDARD
TZOFFSETFROM:-0400
TZOFFSETTO:-0500
TZNAME:EST
DTSTART:20241103T060000
END:STANDARD
BEGIN:DAYLIGHT
TZOFFSETFROM:-0500
TZOFFSETTO:-0400
TZNAME:EDT
DTSTART:20250309T070000
END:DAYLIGHT
BEGIN:STANDARD
TZOFFSETFROM:-0400
TZOFFSETTO:-0500
TZNAME:EST
DTSTART:20251102T060000
END:STANDARD
END:VTIMEZONE
BEGIN:VEVENT
DTSTART;TZID=America/New_York:20240125T080000
DTEND;TZID=America/New_York:20240125T170000
DTSTAMP:20260420T042334
CREATED:20240126T000333Z
LAST-MODIFIED:20240126T000333Z
UID:6101-1706169600-1706202000@macsc.org
SUMMARY:Bloodborne Pathogens Terminology: Exposing the regulation one term at a time
DESCRIPTION:
URL:https://macsc.org/event/bloodborne-pathogens-terminology-exposing-the-regulation-one-term-at-a-time/
LOCATION:PA
END:VEVENT
BEGIN:VEVENT
DTSTART;TZID=America/New_York:20240125T140000
DTEND;TZID=America/New_York:20240125T143000
DTSTAMP:20260420T042334
CREATED:20240109T205244Z
LAST-MODIFIED:20240109T205835Z
UID:6024-1706191200-1706193000@macsc.org
SUMMARY:CPWR Physicians’ Alerts: Short Guides to Talking to Your Medical Provider about Work-Related Hazards
DESCRIPTION:Medical providers may overlook work-related conditions construction workers face if they are not familiar with patients’ work history and exposure to hazards. To help workers get treatment they need\, CPWR has created a series of Physicians’ Alerts that facilitate direct conversations between patient and provider. The alerts cover topics such as contact dermatitis\, silica-related illnesses\, pain management (opioids)\, work-related asthma\, and the newest addition – pregnant worker safety and health. Each helps workers share knowledge about on-the-job hazards so their providers can better factor in information critical to providing proper diagnoses\, treatment\, and workplace accommodations. The Alerts also contain best practices to prevent and mitigate exposure-related conditions. Learn about these FREE resources\, as well as the new work-related task lists by construction occupation that can be used alongside the alerts\, in this short webinar. \nModerator: Chris Cain\, CIH\, Executive Director \nPanelists:  \n\nJessica Bunting\, MPH\, Director\, Research to Practice\nRosa Greenberg\, MPH\, Research Analyst\, Research to Practice\n\n  \nClick here to register and submit questions in advance.
URL:https://macsc.org/event/cpwr-physicians-alerts-short-guides-to-talking-to-your-medical-provider-about-work-related-hazards/
LOCATION:Webinar
END:VEVENT
END:VCALENDAR