BEGIN:VCALENDAR
VERSION:2.0
PRODID:-//Mid-Atlantic Construction Safety Council - ECPv6.15.20//NONSGML v1.0//EN
CALSCALE:GREGORIAN
METHOD:PUBLISH
X-ORIGINAL-URL:https://macsc.org
X-WR-CALDESC:Events for Mid-Atlantic Construction Safety Council
REFRESH-INTERVAL;VALUE=DURATION:PT1H
X-Robots-Tag:noindex
X-PUBLISHED-TTL:PT1H
BEGIN:VTIMEZONE
TZID:America/New_York
BEGIN:DAYLIGHT
TZOFFSETFROM:-0500
TZOFFSETTO:-0400
TZNAME:EDT
DTSTART:20230312T070000
END:DAYLIGHT
BEGIN:STANDARD
TZOFFSETFROM:-0400
TZOFFSETTO:-0500
TZNAME:EST
DTSTART:20231105T060000
END:STANDARD
BEGIN:DAYLIGHT
TZOFFSETFROM:-0500
TZOFFSETTO:-0400
TZNAME:EDT
DTSTART:20240310T070000
END:DAYLIGHT
BEGIN:STANDARD
TZOFFSETFROM:-0400
TZOFFSETTO:-0500
TZNAME:EST
DTSTART:20241103T060000
END:STANDARD
BEGIN:DAYLIGHT
TZOFFSETFROM:-0500
TZOFFSETTO:-0400
TZNAME:EDT
DTSTART:20250309T070000
END:DAYLIGHT
BEGIN:STANDARD
TZOFFSETFROM:-0400
TZOFFSETTO:-0500
TZNAME:EST
DTSTART:20251102T060000
END:STANDARD
END:VTIMEZONE
BEGIN:VEVENT
DTSTART;TZID=America/New_York:20240131T120000
DTEND;TZID=America/New_York:20240131T130000
DTSTAMP:20260422T164738
CREATED:20240115T162706Z
LAST-MODIFIED:20240115T162706Z
UID:6057-1706702400-1706706000@macsc.org
SUMMARY:EHS Recordkeeping
DESCRIPTION:MACSC member Compliance Managment International (CMI) is offering this complimentary webinar. \nJoin us for a discussion on the backbone of EHS compliance: Reporting\, Recordkeeping\, and planning ahead. Chris Maye and Erin Rymsa will share the regulatory requirements as well as best practices for planning out your compliance calendar\, preparing for your annual reports and recordkeeping do’s and don’ts. Join us for this complementary webinar! \nEnroll Now \n 
URL:https://macsc.org/event/ehs-recordkeeping/
LOCATION:Webinar
END:VEVENT
END:VCALENDAR