BEGIN:VCALENDAR
VERSION:2.0
PRODID:-//Mid-Atlantic Construction Safety Council - ECPv6.15.20//NONSGML v1.0//EN
CALSCALE:GREGORIAN
METHOD:PUBLISH
X-ORIGINAL-URL:https://macsc.org
X-WR-CALDESC:Events for Mid-Atlantic Construction Safety Council
REFRESH-INTERVAL;VALUE=DURATION:PT1H
X-Robots-Tag:noindex
X-PUBLISHED-TTL:PT1H
BEGIN:VTIMEZONE
TZID:America/New_York
BEGIN:DAYLIGHT
TZOFFSETFROM:-0500
TZOFFSETTO:-0400
TZNAME:EDT
DTSTART:20230312T070000
END:DAYLIGHT
BEGIN:STANDARD
TZOFFSETFROM:-0400
TZOFFSETTO:-0500
TZNAME:EST
DTSTART:20231105T060000
END:STANDARD
BEGIN:DAYLIGHT
TZOFFSETFROM:-0500
TZOFFSETTO:-0400
TZNAME:EDT
DTSTART:20240310T070000
END:DAYLIGHT
BEGIN:STANDARD
TZOFFSETFROM:-0400
TZOFFSETTO:-0500
TZNAME:EST
DTSTART:20241103T060000
END:STANDARD
BEGIN:DAYLIGHT
TZOFFSETFROM:-0500
TZOFFSETTO:-0400
TZNAME:EDT
DTSTART:20250309T070000
END:DAYLIGHT
BEGIN:STANDARD
TZOFFSETFROM:-0400
TZOFFSETTO:-0500
TZNAME:EST
DTSTART:20251102T060000
END:STANDARD
END:VTIMEZONE
BEGIN:VEVENT
DTSTART;TZID=America/New_York:20240209T113000
DTEND;TZID=America/New_York:20240209T133000
DTSTAMP:20260421T071722
CREATED:20231228T205322Z
LAST-MODIFIED:20240129T021400Z
UID:6008-1707478200-1707485400@macsc.org
SUMMARY:MACSC February Member Meeting
DESCRIPTION:Topic: Injudry Trends Within the Council Membership \nAfter reviewing the USA and PA Trends from the BLS & OSHA reviews; we wanted to see how we\, as a council\, stood up to those trends. \nIn an effort to accurately show the current issues/trends we experience in our region; We surveyed our members on their OSHA recordable injuries. We started with the Construction Management group but intend to open up to other members in the future reviews. We reviewed within the following categories: \n\nType of worker injured: Company Employee or Subcontracted Employee\nTrade of Worker involved in injury/incident\nIncident Type\nBody Part Involved\nInjury Classification\n\nThrough this analysis\, we intend to provide feedback on where the council stands comparatively and where our efforts (training\, inspections\, etc.) should be focused. \nPresenters:\nJenn Hall\, CSP\, CHST\, Safety Director P. Agnes Inc.\nEd Christy\, Safety Director\, Intech Construction \nRSVP HERE
URL:https://macsc.org/event/macsc-february-member-meeting/
LOCATION:The Cynwyd Club\, 332 Trevor Lane\, Bala Cynwyd\, PA\, 19004\, United States
END:VEVENT
END:VCALENDAR