BEGIN:VCALENDAR
VERSION:2.0
PRODID:-//Mid-Atlantic Construction Safety Council - ECPv6.15.20//NONSGML v1.0//EN
CALSCALE:GREGORIAN
METHOD:PUBLISH
X-ORIGINAL-URL:https://macsc.org
X-WR-CALDESC:Events for Mid-Atlantic Construction Safety Council
REFRESH-INTERVAL;VALUE=DURATION:PT1H
X-Robots-Tag:noindex
X-PUBLISHED-TTL:PT1H
BEGIN:VTIMEZONE
TZID:America/New_York
BEGIN:DAYLIGHT
TZOFFSETFROM:-0500
TZOFFSETTO:-0400
TZNAME:EDT
DTSTART:20220313T070000
END:DAYLIGHT
BEGIN:STANDARD
TZOFFSETFROM:-0400
TZOFFSETTO:-0500
TZNAME:EST
DTSTART:20221106T060000
END:STANDARD
BEGIN:DAYLIGHT
TZOFFSETFROM:-0500
TZOFFSETTO:-0400
TZNAME:EDT
DTSTART:20230312T070000
END:DAYLIGHT
BEGIN:STANDARD
TZOFFSETFROM:-0400
TZOFFSETTO:-0500
TZNAME:EST
DTSTART:20231105T060000
END:STANDARD
BEGIN:DAYLIGHT
TZOFFSETFROM:-0500
TZOFFSETTO:-0400
TZNAME:EDT
DTSTART:20240310T070000
END:DAYLIGHT
BEGIN:STANDARD
TZOFFSETFROM:-0400
TZOFFSETTO:-0500
TZNAME:EST
DTSTART:20241103T060000
END:STANDARD
END:VTIMEZONE
BEGIN:VEVENT
DTSTART;TZID=America/New_York:20230918T173000
DTEND;TZID=America/New_York:20230918T193000
DTSTAMP:20260424T111341
CREATED:20230829T153115Z
LAST-MODIFIED:20230829T154047Z
UID:5732-1695058200-1695065400@macsc.org
SUMMARY:PARADIGM COORDINATED RESPONSE AND EXCAVATOR SAFETY PROGRAM
DESCRIPTION:PA One Call Program – Paradigm – Coordinated Response Exercise & Excavator Safety Program (CoRE-EX) \nParadigm brings together operators and emergency officials to assist operators with focused compliance efforts for API RP 1162 and 49 CFR 192.615 and 616 / 49 CFR 195.402\, 403 and 440. At local meetings\, both operator and emergency official exchange information regarding systems and capabilities to plan accordingly. \nElements Ballroom At the Holiday Inn Lansdale-Hatf\n1750 Summneytown Pike\, Kulpsville PA 19443 \nLogin to start registration with PA One Call
URL:https://macsc.org/event/paradigm-coordinated-response-and-excavator-safety-program/
LOCATION:Holiday Inn Lansdale-Hatf\, 1750 Summneytown Pike\, Kulpsville\, PA\, 19443\, United States
CATEGORIES:Event
END:VEVENT
END:VCALENDAR