BEGIN:VCALENDAR
VERSION:2.0
PRODID:-//Mid-Atlantic Construction Safety Council - ECPv6.15.20//NONSGML v1.0//EN
CALSCALE:GREGORIAN
METHOD:PUBLISH
X-WR-CALNAME:Mid-Atlantic Construction Safety Council
X-ORIGINAL-URL:https://macsc.org
X-WR-CALDESC:Events for Mid-Atlantic Construction Safety Council
REFRESH-INTERVAL;VALUE=DURATION:PT1H
X-Robots-Tag:noindex
X-PUBLISHED-TTL:PT1H
BEGIN:VTIMEZONE
TZID:America/New_York
BEGIN:DAYLIGHT
TZOFFSETFROM:-0500
TZOFFSETTO:-0400
TZNAME:EDT
DTSTART:20220313T070000
END:DAYLIGHT
BEGIN:STANDARD
TZOFFSETFROM:-0400
TZOFFSETTO:-0500
TZNAME:EST
DTSTART:20221106T060000
END:STANDARD
BEGIN:DAYLIGHT
TZOFFSETFROM:-0500
TZOFFSETTO:-0400
TZNAME:EDT
DTSTART:20230312T070000
END:DAYLIGHT
BEGIN:STANDARD
TZOFFSETFROM:-0400
TZOFFSETTO:-0500
TZNAME:EST
DTSTART:20231105T060000
END:STANDARD
BEGIN:DAYLIGHT
TZOFFSETFROM:-0500
TZOFFSETTO:-0400
TZNAME:EDT
DTSTART:20240310T070000
END:DAYLIGHT
BEGIN:STANDARD
TZOFFSETFROM:-0400
TZOFFSETTO:-0500
TZNAME:EST
DTSTART:20241103T060000
END:STANDARD
END:VTIMEZONE
BEGIN:VEVENT
DTSTART;TZID=America/New_York:20231005T083000
DTEND;TZID=America/New_York:20231005T120000
DTSTAMP:20260424T093049
CREATED:20230913T192146Z
LAST-MODIFIED:20230913T192521Z
UID:5798-1696494600-1696507200@macsc.org
SUMMARY:Free Locator Program: Pennsylvania One Call: The Keystone of Damage Prevention
DESCRIPTION:The program objectives explain the definitions and terminology used in the PA Act 287 of 1974\, as amended\, a description of a correct notification\, an explanation of marking underground lines with the American Public Works Association (APWA) color code standards\, and an illustration of how to respond through the Karl Automated Response to Locates (KARL) system. The program is approved under the Pennsylvania Department of Environmental Protection (PA DEP) water and wastewater operators-training program for 3 contact hours. Those attendees who are licensed water and wastewater operators and are in their 3-year license cycle are eligible for continuing education contact hours. Program designed for member facility owners\, locators and municipalities. Event is from 08:30 to 12:00 PM. Please feel free to check in as early as 8:00 AM. Lunch will be served at 12:00 PM. \n  \nLogin to PA One Call to start your registration
URL:https://macsc.org/event/free-locator-program-pennsylvania-one-call-the-keystone-of-damage-prevention/
LOCATION:Cannstatter Volksfest Verein\, 9130 Academy Rd\, Philadelphia\, PA\, 19114
CATEGORIES:Event
END:VEVENT
END:VCALENDAR