BEGIN:VCALENDAR
VERSION:2.0
PRODID:-//Mid-Atlantic Construction Safety Council - ECPv6.15.20//NONSGML v1.0//EN
CALSCALE:GREGORIAN
METHOD:PUBLISH
X-WR-CALNAME:Mid-Atlantic Construction Safety Council
X-ORIGINAL-URL:https://macsc.org
X-WR-CALDESC:Events for Mid-Atlantic Construction Safety Council
REFRESH-INTERVAL;VALUE=DURATION:PT1H
X-Robots-Tag:noindex
X-PUBLISHED-TTL:PT1H
BEGIN:VTIMEZONE
TZID:America/New_York
BEGIN:DAYLIGHT
TZOFFSETFROM:-0500
TZOFFSETTO:-0400
TZNAME:EDT
DTSTART:20250309T070000
END:DAYLIGHT
BEGIN:STANDARD
TZOFFSETFROM:-0400
TZOFFSETTO:-0500
TZNAME:EST
DTSTART:20251102T060000
END:STANDARD
BEGIN:DAYLIGHT
TZOFFSETFROM:-0500
TZOFFSETTO:-0400
TZNAME:EDT
DTSTART:20260308T070000
END:DAYLIGHT
BEGIN:STANDARD
TZOFFSETFROM:-0400
TZOFFSETTO:-0500
TZNAME:EST
DTSTART:20261101T060000
END:STANDARD
BEGIN:DAYLIGHT
TZOFFSETFROM:-0500
TZOFFSETTO:-0400
TZNAME:EDT
DTSTART:20270314T070000
END:DAYLIGHT
BEGIN:STANDARD
TZOFFSETFROM:-0400
TZOFFSETTO:-0500
TZNAME:EST
DTSTART:20271107T060000
END:STANDARD
END:VTIMEZONE
BEGIN:VEVENT
DTSTART;TZID=America/New_York:20260502T083000
DTEND;TZID=America/New_York:20260502T123000
DTSTAMP:20260422T214654
CREATED:20260420T174114Z
LAST-MODIFIED:20260420T175109Z
UID:7622-1777710600-1777725000@macsc.org
SUMMARY:Tradeswomen Safety Summit May 2\, 2026
DESCRIPTION:NAWIC Philadelphia a NAWIC Philadelphia and Penn[1]Jersey Tradeswomen Association is ready to kick-off Construction Safety Week 2026! Join us on Saturday 5/2 at the IBEW Local 98 Union Hall for a morning of networking\, professional development\, and education. Vendors will also be on-site to share PPE options designed specifically for women! \nThis event is open to everyone interested in learning more about safety in construction. Our diverse list of vendors includes Carhartt\, DeWalt\, Milwaukee\, Red Wing\, Diamond Tool\, C&C\, and many others. \nThe summit will feature a presentation on women’s safety equipment in the workplace\, followed by a “Know Your Rights” seminar hosted by Chicago Women In the Trades. \n8:30AM Check-in\n9:00AM Welcome & PPE Presentation (presented by Donna Yohe\, My Safety Lady)\n9:45AM Networking\, Vendor Show\, Break & Refreshments\n10:30AM – 12:00PM: “Your Rights at Work” Workshop seminar hosted by Chicago Women In the Trades. \nRegister via QR Code above or LINK https://docs.google.com/forms/d/e/1FAIpQLSfjEaTozSVk-ffCoImfxIRvMJdkls4EMO-bmyNLd_9IxdtExw/viewform \nInterested in participating as a vendor\, contact me directly at Kmasino40@gmail.com or call at 267-549-5205.
URL:https://macsc.org/event/7622/
LOCATION:IBEW LU 98 Philadelphia Navy Yard\, 4960 S. 12th Street\, Philadelphia\, PA\, 19112\, United States
CATEGORIES:Event
END:VEVENT
END:VCALENDAR