BEGIN:VCALENDAR
VERSION:2.0
PRODID:-//Mid-Atlantic Construction Safety Council - ECPv6.15.20//NONSGML v1.0//EN
CALSCALE:GREGORIAN
METHOD:PUBLISH
X-WR-CALNAME:Mid-Atlantic Construction Safety Council
X-ORIGINAL-URL:https://macsc.org
X-WR-CALDESC:Events for Mid-Atlantic Construction Safety Council
REFRESH-INTERVAL;VALUE=DURATION:PT1H
X-Robots-Tag:noindex
X-PUBLISHED-TTL:PT1H
BEGIN:VTIMEZONE
TZID:America/New_York
BEGIN:DAYLIGHT
TZOFFSETFROM:-0500
TZOFFSETTO:-0400
TZNAME:EDT
DTSTART:20230312T070000
END:DAYLIGHT
BEGIN:STANDARD
TZOFFSETFROM:-0400
TZOFFSETTO:-0500
TZNAME:EST
DTSTART:20231105T060000
END:STANDARD
BEGIN:DAYLIGHT
TZOFFSETFROM:-0500
TZOFFSETTO:-0400
TZNAME:EDT
DTSTART:20240310T070000
END:DAYLIGHT
BEGIN:STANDARD
TZOFFSETFROM:-0400
TZOFFSETTO:-0500
TZNAME:EST
DTSTART:20241103T060000
END:STANDARD
BEGIN:DAYLIGHT
TZOFFSETFROM:-0500
TZOFFSETTO:-0400
TZNAME:EDT
DTSTART:20250309T070000
END:DAYLIGHT
BEGIN:STANDARD
TZOFFSETFROM:-0400
TZOFFSETTO:-0500
TZNAME:EST
DTSTART:20251102T060000
END:STANDARD
END:VTIMEZONE
BEGIN:VEVENT
DTSTART;TZID=America/New_York:20240801T140000
DTEND;TZID=America/New_York:20240801T150000
DTSTAMP:20260424T053720
CREATED:20240718T204305Z
LAST-MODIFIED:20240718T204305Z
UID:6520-1722520800-1722524400@macsc.org
SUMMARY:Emergency Planning From a Different Perspective
DESCRIPTION:Thursday\, August 1st at 11 AM (PST) / 2 PM (EST)  \nWhen disaster strikes\, confusion and indecision often take place when we React instead of Proacting. What is your company’s capability during the first 100 minutes of an incident when local emergency response efforts may be delayed? How do location and resources complicate your emergency plans? I have 4 locations I can use the same emergency plan? Is there a tool I can use to preplan my responses? \nEmergencies can create a variety of hazards for workers in the impacted area. Preparing before an emergency incident plays a vital role in ensuring that employers and workers have the necessary equipment\, know where to go\, and know how to keep themselves safe when an emergency occurs. \nIn times of crisis\, a well-defined plan is the difference between a rapid recovery\, a major loss\, and the safety of your employees. \n  \nRegister Now
URL:https://macsc.org/event/emergency-planning-from-a-different-perspective/
LOCATION:Webinar
CATEGORIES:Training
END:VEVENT
BEGIN:VEVENT
DTSTART;TZID=America/New_York:20240829T120000
DTEND;TZID=America/New_York:20240829T130000
DTSTAMP:20260424T053720
CREATED:20240819T163308Z
LAST-MODIFIED:20240819T163444Z
UID:6558-1724932800-1724936400@macsc.org
SUMMARY:Live and Free Webinar: Fall Protections
DESCRIPTION:Join Compliance Management International for the Complementary Webinar. \n12:00 – 1:00 p.m. ET \nThursday\, August 29th \nSpeaker: Erin Rymsa\, Director of Training Services \nJoin us for a discussion on the Essentials of Fall Protection. Erin Rymsa\, Director\, Health and Safety Services\, will host a panel of local experts to discuss regulatory requirements as well as best practices for managing fall hazards in general industry. \nWho Should Attend? \n-Operations and Facility Managers \n-Plant Managers \n-Human Resources \n-EHS Specialists and Representatives \n  \nFeel free to invite your colleagues! \n  \n\n\n\n\n\n\n\n\n\n\n\nEnroll For Free!
URL:https://macsc.org/event/live-and-free-webinar-fall-protections/
LOCATION:Webinar
CATEGORIES:Training
END:VEVENT
END:VCALENDAR