BEGIN:VCALENDAR
VERSION:2.0
PRODID:-//Mid-Atlantic Construction Safety Council - ECPv6.15.20//NONSGML v1.0//EN
CALSCALE:GREGORIAN
METHOD:PUBLISH
X-ORIGINAL-URL:https://macsc.org
X-WR-CALDESC:Events for Mid-Atlantic Construction Safety Council
REFRESH-INTERVAL;VALUE=DURATION:PT1H
X-Robots-Tag:noindex
X-PUBLISHED-TTL:PT1H
BEGIN:VTIMEZONE
TZID:America/New_York
BEGIN:DAYLIGHT
TZOFFSETFROM:-0500
TZOFFSETTO:-0400
TZNAME:EDT
DTSTART:20230312T070000
END:DAYLIGHT
BEGIN:STANDARD
TZOFFSETFROM:-0400
TZOFFSETTO:-0500
TZNAME:EST
DTSTART:20231105T060000
END:STANDARD
BEGIN:DAYLIGHT
TZOFFSETFROM:-0500
TZOFFSETTO:-0400
TZNAME:EDT
DTSTART:20240310T070000
END:DAYLIGHT
BEGIN:STANDARD
TZOFFSETFROM:-0400
TZOFFSETTO:-0500
TZNAME:EST
DTSTART:20241103T060000
END:STANDARD
BEGIN:DAYLIGHT
TZOFFSETFROM:-0500
TZOFFSETTO:-0400
TZNAME:EDT
DTSTART:20250309T070000
END:DAYLIGHT
BEGIN:STANDARD
TZOFFSETFROM:-0400
TZOFFSETTO:-0500
TZNAME:EST
DTSTART:20251102T060000
END:STANDARD
END:VTIMEZONE
BEGIN:VEVENT
DTSTART;VALUE=DATE:20241007
DTEND;VALUE=DATE:20241011
DTSTAMP:20260425T111951
CREATED:20240819T170957Z
LAST-MODIFIED:20240819T170957Z
UID:6567-1728259200-1728604799@macsc.org
SUMMARY:OSHA 30-Hour Construction Training
DESCRIPTION:October 7th-10th \n\n\n\n\n\n\n\n8:00am-3:00pm EST\n(4 Days)\n\n\n\n\n\n\n\n\n\n\n\n\n\n\nCost: \n$495.00\n\n\nLocation: \n2750 Morris Road\, Lansdale\, PA 19446\n\n\n\n\n\n\nREGISTER \nThe OSHA Outreach Training Program provides training on the recognition\, avoidance\, abatement\, and prevention of workplace hazards. Outreach classes also provide overview information regarding OSHA\, including workers’ rights\, employer responsibilities\, and how to file a complaint. \nThe 4-day\, 30-Hour training program is intended to provide workers with some safety responsibility a greater depth and variety of training. This outreach training is intended to cover an overview of the hazards a worker may encounter on a job site. Training emphasizes hazard identification\, avoidance\, control and prevention\, not OSHA standards. \n\n\n\n\nProgram Benefits\n\n\n\n\n\n\n\nPromotes safety culture through peer conversations\nTraining is participatory\, using hands-on activities\nOutreach training content includes hazard recognition and avoidance\, workers’ rights\, employer responsibilities\, and how to file a complaint; it emphasizes the value of safety and health to workers\, including young workers\n\n*This course includes box lunch\, access to all course materials\, and OSHA 30 Card* \n\n\nYour Presenter\n\n\n\n\n\n\n\n\nTiffany L. Carter is a highly skilled safety instructor with over 15 years of experience in the construction industry. She excels in designing and delivering effective training programs to various audiences. Tiffany holds multiple safety certifications\, including OSHA Construction Safety and Health\, CPR\, and First Aid. Her expertise in safety training and regulatory compliance makes her an invaluable asset in fostering a culture of safety. \n\n\n\n\n\n\n\n\n\n\n\n\n\n30-Hour Course Agenda\n\n\n\n\n\n\nDay 1 \n\nIntroduction to OSHA\nFall Protection\nElectrical Safety\nHealth Hazards in Construction\nPersonal Protective Equipment\n\n\n\n\n\n\n\n\n\nDay 2 \n\nManaging Safety and Health\nHand & Power Tools\nConfined Space\nMaterials Handling\, Storage\, Use and Disposal\n\n\n\n\n\n\n\n\n\nDay 3 \n\nCranes & Rigging\nFire Protective and Prevention\nErgonomics\n\n\n\n\n\n\n\n\n\nDay 4 \n\nExcavation & Trench Safety\nScaffolds\nCaught In or Between Objects\nStruck By Object
URL:https://macsc.org/event/osha-30-hour-construction-training/
LOCATION:Compliance Management International\, 2750 Morris Road\, Lansdale\, PA\, 19446
CATEGORIES:Training
END:VEVENT
BEGIN:VEVENT
DTSTART;TZID=America/New_York:20241015T140000
DTEND;TZID=America/New_York:20241015T150000
DTSTAMP:20260425T111951
CREATED:20241007T163838Z
LAST-MODIFIED:20241007T163838Z
UID:6673-1729000800-1729004400@macsc.org
SUMMARY:CPWR presents Head Protection in the Construction Industry (free webinar)
DESCRIPTION:The NIOSH-NORA Construction Sector Council Struck-By Work Group presents a two-part series on head protection:The NIOSH-NORA Construction Sector Council Struck-By Work Group presents a two-part series on head protection: \nEach year\, thousands of construction workers suffer head injuries on the job. Based on historical data\, over 50\,000 nonfatal work-related traumatic brain injuries (TBIs) are treated on average annually in U.S. emergency departments\, and between 2003 and 2010\, 2\,210 construction workers died from a TBI. Some common causes of head injuries include: being struck by a falling or flying tool\, material\, or other object; falling and coming into contact with an object or surface; and coming into contact with overhead hazards. \n During this webinar\,\, you will learn more about TBIs and their impact on construction workers\, how to select protective headgear to prevent TBIs\, and what the current OSHA\, ANSI\, and ASTM standards say about head protection. \nRegistration: Click here to register and submit questions in advance
URL:https://macsc.org/event/cpwr-presents-head-protection-in-the-construction-industry-free-webinar/
LOCATION:Webinar
CATEGORIES:Training
END:VEVENT
BEGIN:VEVENT
DTSTART;TZID=America/New_York:20241022T080000
DTEND;TZID=America/New_York:20241022T140000
DTSTAMP:20260425T111951
CREATED:20241001T173446Z
LAST-MODIFIED:20241001T174227Z
UID:6660-1729584000-1729605600@macsc.org
SUMMARY:NAXSA Trench Safety Summit (North American Excavation Shoring Association)
DESCRIPTION:NAXSA Trench Safety Summit is hosting a free full day of activities with active trench field demonstrations\, Proper Use of Hydraulic Vertical Shores\, and more\, with Keynote speaker Eric Giguere who will captivate the audience as he relays his experience of being buried in a trench\, in his inspiring presentation entitled “The Buried Truth Uncovered.” This event is free to attend and also has sponsorships an exhibit opportunity. \n\n\n\nWhen:\nTuesday\, October 22\, 2024\n7:00 am – 2:00 pm ET\n\n\nWhere:\nKimberton Fire Company Fairgrounds\n762 Pike Springs Rd.\nPhoenixville\, Pennsylvania  19460\n\n\n\nVisit the link below to secure your spot!  This event is FREE to employees and any contractor involved in underground construction or excavation.  \n  \nREGISTER NOW
URL:https://macsc.org/event/naxsa-trench-safety-summit-north-american-excavation-shoring-association/
LOCATION:Kimberton Fire Company Fairgrounds\, 762 Pike Springs Rd.\, Phoenixville\,\, PA\, 19460
CATEGORIES:Training
END:VEVENT
BEGIN:VEVENT
DTSTART;TZID=America/New_York:20241023T120000
DTEND;TZID=America/New_York:20241023T130000
DTSTAMP:20260425T111951
CREATED:20241008T004536Z
LAST-MODIFIED:20241008T004808Z
UID:6679-1729684800-1729688400@macsc.org
SUMMARY:OSHA's Top 10 presented by Compliance Management International
DESCRIPTION:Employers need to keep top of mind the OSHA programs that are not only cited most frequently\, but also have the potential for injury. Join this webinar to hear about the most cited OSHA programs and learn your responsibility as an employer. We’ll also talk about risk and compliance and where employers should focus their efforts.  \n  \nWho Should Attend? \n-Operations and Facility Managers \n-Plant Managers \n-EHS Specialists and Representatives \n-Human Resources \n  \nFeel free to invite your colleagues! \nFree to Enroll
URL:https://macsc.org/event/oshas-top-10-presented-by-compliance-management-international/
LOCATION:Webinar
CATEGORIES:Training
END:VEVENT
BEGIN:VEVENT
DTSTART;TZID=America/New_York:20241025T090000
DTEND;TZID=America/New_York:20241025T110000
DTSTAMP:20260425T111951
CREATED:20241001T153848Z
LAST-MODIFIED:20241001T154649Z
UID:6653-1729846800-1729854000@macsc.org
SUMMARY:Adult First Aid/CPR/AED
DESCRIPTION:Compliance Management International is hosting Adult First Aid\, CPR\, and AED open-enrollment classes in Lansdale\, PA. Upon successful completion of this blended-learning course with Erin Rymsa\, participants will receive a 2-year American Red Cross digital certificate that is OSHA compliant and meets other workplace and regulatory requirements. \nNovember 15\, 2024 \n\n\n\n\n\n\n\nTime: \n9:00am-11:00am EST\n\n\n\n\n\n\n\n\n\n\n\n\n\n\nCost: \n$99.00\n\n\nLocation: \n2750 Morris Road\, Lansdale\, PA 19446\n\n\n\nRead the full description and to register.
URL:https://macsc.org/event/adult-first-aid-cpr-aed/
LOCATION:2750 Morris Road\, Lansdale\, PA 19446\, 2750 Morris Road\, Lansdale\, PA\, 19446
CATEGORIES:Training
END:VEVENT
BEGIN:VEVENT
DTSTART;TZID=America/New_York:20241031T140000
DTEND;TZID=America/New_York:20241031T150000
DTSTAMP:20260425T111951
CREATED:20241007T164218Z
LAST-MODIFIED:20241007T164218Z
UID:6675-1730383200-1730386800@macsc.org
SUMMARY:CPWR presents Selection and Practical Use of Head Protection in the Construction Industry (free webianar)
DESCRIPTION:A follow-up to our October 15th webinar\, this session will explore the practical application of concepts discussed previously\, including the use of head protection to prevent TBIs\, how to select appropriate headgear\, and information covered in the standards. You will hear from various contractor representatives on how they have incorporated head protection into their overall struck-by prevention programs and how they have handled the current transition many are making from traditional hardhats to safety helmets as well as challenges that might arise. We will also explore limitations to the current standards\, research that still needs to be done\, and factors that should be considered from the employees’ perspective when making decisions about head protection on the job. \nRegistration: Click here to register and submit questions in advance \n 
URL:https://macsc.org/event/cpwr-presents-selection-and-practical-use-of-head-protection-in-the-construction-industry-free-webianar/
LOCATION:Zoom
CATEGORIES:Training
END:VEVENT
END:VCALENDAR