BEGIN:VCALENDAR
VERSION:2.0
PRODID:-//Mid-Atlantic Construction Safety Council - ECPv6.15.20//NONSGML v1.0//EN
CALSCALE:GREGORIAN
METHOD:PUBLISH
X-ORIGINAL-URL:https://macsc.org
X-WR-CALDESC:Events for Mid-Atlantic Construction Safety Council
REFRESH-INTERVAL;VALUE=DURATION:PT1H
X-Robots-Tag:noindex
X-PUBLISHED-TTL:PT1H
BEGIN:VTIMEZONE
TZID:America/New_York
BEGIN:DAYLIGHT
TZOFFSETFROM:-0500
TZOFFSETTO:-0400
TZNAME:EDT
DTSTART:20230312T070000
END:DAYLIGHT
BEGIN:STANDARD
TZOFFSETFROM:-0400
TZOFFSETTO:-0500
TZNAME:EST
DTSTART:20231105T060000
END:STANDARD
BEGIN:DAYLIGHT
TZOFFSETFROM:-0500
TZOFFSETTO:-0400
TZNAME:EDT
DTSTART:20240310T070000
END:DAYLIGHT
BEGIN:STANDARD
TZOFFSETFROM:-0400
TZOFFSETTO:-0500
TZNAME:EST
DTSTART:20241103T060000
END:STANDARD
BEGIN:DAYLIGHT
TZOFFSETFROM:-0500
TZOFFSETTO:-0400
TZNAME:EDT
DTSTART:20250309T070000
END:DAYLIGHT
BEGIN:STANDARD
TZOFFSETFROM:-0400
TZOFFSETTO:-0500
TZNAME:EST
DTSTART:20251102T060000
END:STANDARD
END:VTIMEZONE
BEGIN:VEVENT
DTSTART;TZID=America/New_York:20240606T140000
DTEND;TZID=America/New_York:20240606T150000
DTSTAMP:20260425T225847
CREATED:20240521T191808Z
LAST-MODIFIED:20240521T191808Z
UID:6402-1717682400-1717686000@macsc.org
SUMMARY:Free Webinar Invitation: Key ANSI Fall Protection Updates You Need to Know
DESCRIPTION:The landscape of the fall protection industry is continuously advancing and changing\, with the recent OSHA Falls National Emphasis Program as a notable item. Additionally\, the ANSI/ASSP Z359 standards—or Fall Protection Code—are working to keep up with the evolving technologies and practices to meet your needs. Attendees will learn how recent and forthcoming changes to the standards impact key aspects of their organization’s fall protection program and allow you to best prepare for internal or OSHA related inspections. \nThe presenter will explain how the standards interrelate and provide insight on recently and soon to-be released standards\, including new updates related to full-body harnesses\, self-retracting devices\, energy absorbing lanyards and rope access systems. With this information\, safety professionals can determine cost effective strategies for applying the new information to reduce risk for workers at heights. \nRegister here for this free webinar:
URL:https://macsc.org/event/free-webinar-invitation-key-ansi-fall-protection-updates-you-need-to-know/
LOCATION:Webinar
CATEGORIES:Training
END:VEVENT
END:VCALENDAR