BEGIN:VCALENDAR
VERSION:2.0
PRODID:-//Mid-Atlantic Construction Safety Council - ECPv6.15.20//NONSGML v1.0//EN
CALSCALE:GREGORIAN
METHOD:PUBLISH
X-WR-CALNAME:Mid-Atlantic Construction Safety Council
X-ORIGINAL-URL:https://macsc.org
X-WR-CALDESC:Events for Mid-Atlantic Construction Safety Council
REFRESH-INTERVAL;VALUE=DURATION:PT1H
X-Robots-Tag:noindex
X-PUBLISHED-TTL:PT1H
BEGIN:VTIMEZONE
TZID:America/New_York
BEGIN:DAYLIGHT
TZOFFSETFROM:-0500
TZOFFSETTO:-0400
TZNAME:EDT
DTSTART:20230312T070000
END:DAYLIGHT
BEGIN:STANDARD
TZOFFSETFROM:-0400
TZOFFSETTO:-0500
TZNAME:EST
DTSTART:20231105T060000
END:STANDARD
BEGIN:DAYLIGHT
TZOFFSETFROM:-0500
TZOFFSETTO:-0400
TZNAME:EDT
DTSTART:20240310T070000
END:DAYLIGHT
BEGIN:STANDARD
TZOFFSETFROM:-0400
TZOFFSETTO:-0500
TZNAME:EST
DTSTART:20241103T060000
END:STANDARD
BEGIN:DAYLIGHT
TZOFFSETFROM:-0500
TZOFFSETTO:-0400
TZNAME:EDT
DTSTART:20250309T070000
END:DAYLIGHT
BEGIN:STANDARD
TZOFFSETFROM:-0400
TZOFFSETTO:-0500
TZNAME:EST
DTSTART:20251102T060000
END:STANDARD
END:VTIMEZONE
BEGIN:VEVENT
DTSTART;TZID=America/New_York:20240612T140000
DTEND;TZID=America/New_York:20240612T150000
DTSTAMP:20260425T212830
CREATED:20240521T151923Z
LAST-MODIFIED:20240521T190728Z
UID:6392-1718200800-1718204400@macsc.org
SUMMARY:Forklift Compliance: Inspection Requirements\, Training\, and FAQs
DESCRIPTION:Accidents involving forklifts\, motorized pallet jacks and other powered industrial trucks contribute to thousands of injuries in workplaces each year\, costing companies millions in terms of fines\, workers’ comp costs and lost productivity. If your employees use this equipment\, accidents and violations are a constant – and very real – threat. \n \nRead more and register >>>> \nSponsored by JJ Keller \n 
URL:https://macsc.org/event/forklift-compliance-inspection-requirements-training-and-faqs/
LOCATION:Webinar
CATEGORIES:Training
END:VEVENT
END:VCALENDAR