BEGIN:VCALENDAR
VERSION:2.0
PRODID:-//Mid-Atlantic Construction Safety Council - ECPv6.15.20//NONSGML v1.0//EN
CALSCALE:GREGORIAN
METHOD:PUBLISH
X-WR-CALNAME:Mid-Atlantic Construction Safety Council
X-ORIGINAL-URL:https://macsc.org
X-WR-CALDESC:Events for Mid-Atlantic Construction Safety Council
REFRESH-INTERVAL;VALUE=DURATION:PT1H
X-Robots-Tag:noindex
X-PUBLISHED-TTL:PT1H
BEGIN:VTIMEZONE
TZID:America/New_York
BEGIN:DAYLIGHT
TZOFFSETFROM:-0500
TZOFFSETTO:-0400
TZNAME:EDT
DTSTART:20230312T070000
END:DAYLIGHT
BEGIN:STANDARD
TZOFFSETFROM:-0400
TZOFFSETTO:-0500
TZNAME:EST
DTSTART:20231105T060000
END:STANDARD
BEGIN:DAYLIGHT
TZOFFSETFROM:-0500
TZOFFSETTO:-0400
TZNAME:EDT
DTSTART:20240310T070000
END:DAYLIGHT
BEGIN:STANDARD
TZOFFSETFROM:-0400
TZOFFSETTO:-0500
TZNAME:EST
DTSTART:20241103T060000
END:STANDARD
BEGIN:DAYLIGHT
TZOFFSETFROM:-0500
TZOFFSETTO:-0400
TZNAME:EDT
DTSTART:20250309T070000
END:DAYLIGHT
BEGIN:STANDARD
TZOFFSETFROM:-0400
TZOFFSETTO:-0500
TZNAME:EST
DTSTART:20251102T060000
END:STANDARD
END:VTIMEZONE
BEGIN:VEVENT
DTSTART;TZID=America/New_York:20240912T140000
DTEND;TZID=America/New_York:20240912T150000
DTSTAMP:20260425T113437
CREATED:20240911T191233Z
LAST-MODIFIED:20240911T191233Z
UID:6610-1726149600-1726153200@macsc.org
SUMMARY:7 Steps To A Cold Stress Prevention Program (FREE)
DESCRIPTION:September 12\, 2024 \n12:00PM \nRegister for this free webinar: \nhttps://click1.e.1105direct.com/t.do?id=93988:487668:B9F503CA-5A57-48B3-8CC3-A7976752F4C7:1726060500&a=20261431 \nHow can you improve your organization’s cold stress prevention program? \nJoin the leaders in personal protective equipment\, PIP®\, as they break down the causes of cold stress in both outdoor and indoor environments. You’ll gain valuable insights into the factors behind cold stress and discover practical solutions to strengthen your prevention programs. Register now! \nSpeaker: \nJim Huebner\, Marketing Manager\, Construction\, Protective Industrial Products Jim is the Marketing Manager for Construction Safety at PIP® with over 14 years in the safety industry conducting market research\, offering hazard driven channel safety solutions and creating interactive safety tools for distributors and end users. \nNick Reaves\, Product Sales Manager\, Protective Workwear\, Protective Industrial Products Nick is the Product Sales Manager for Protective Workwear at PIP® with over 30 years of experience in the workwear industry. Nick has experience in apparel manufacturing and the uniform rental industry. He has multi-year sourcing and manufacturing experience. \nMichelle Glukowsky\, Product Sales Manager\, Hand and Arm Protection\, Protective Industrial Products Michelle is a Product Sales Manager with over 30 years of expertise in Hand and Arm Protection. Her strong knowledge of materials\, product applications\, and industry regulations enables her to develop tailored solutions that meet the specific needs of the end-user. Michelle is QSSP certified. \n  \nRegister for this free webinar: \nhttps://click1.e.1105direct.com/t.do?id=93989:487668:B9F503CA-5A57-48B3-8CC3-A7976752F4C7:1726060500&a=20261431 \n 
URL:https://macsc.org/event/7-steps-to-a-cold-stress-prevention-program-free/
LOCATION:Webinar
CATEGORIES:Training
END:VEVENT
END:VCALENDAR