BEGIN:VCALENDAR
VERSION:2.0
PRODID:-//Mid-Atlantic Construction Safety Council - ECPv6.15.20//NONSGML v1.0//EN
CALSCALE:GREGORIAN
METHOD:PUBLISH
X-WR-CALNAME:Mid-Atlantic Construction Safety Council
X-ORIGINAL-URL:https://macsc.org
X-WR-CALDESC:Events for Mid-Atlantic Construction Safety Council
REFRESH-INTERVAL;VALUE=DURATION:PT1H
X-Robots-Tag:noindex
X-PUBLISHED-TTL:PT1H
BEGIN:VTIMEZONE
TZID:America/New_York
BEGIN:DAYLIGHT
TZOFFSETFROM:-0500
TZOFFSETTO:-0400
TZNAME:EDT
DTSTART:20230312T070000
END:DAYLIGHT
BEGIN:STANDARD
TZOFFSETFROM:-0400
TZOFFSETTO:-0500
TZNAME:EST
DTSTART:20231105T060000
END:STANDARD
BEGIN:DAYLIGHT
TZOFFSETFROM:-0500
TZOFFSETTO:-0400
TZNAME:EDT
DTSTART:20240310T070000
END:DAYLIGHT
BEGIN:STANDARD
TZOFFSETFROM:-0400
TZOFFSETTO:-0500
TZNAME:EST
DTSTART:20241103T060000
END:STANDARD
BEGIN:DAYLIGHT
TZOFFSETFROM:-0500
TZOFFSETTO:-0400
TZNAME:EDT
DTSTART:20250309T070000
END:DAYLIGHT
BEGIN:STANDARD
TZOFFSETFROM:-0400
TZOFFSETTO:-0500
TZNAME:EST
DTSTART:20251102T060000
END:STANDARD
END:VTIMEZONE
BEGIN:VEVENT
DTSTART;VALUE=DATE:20241007
DTEND;VALUE=DATE:20241011
DTSTAMP:20260420T151001
CREATED:20240819T170957Z
LAST-MODIFIED:20240819T170957Z
UID:6567-1728259200-1728604799@macsc.org
SUMMARY:OSHA 30-Hour Construction Training
DESCRIPTION:October 7th-10th \n\n\n\n\n\n\n\n8:00am-3:00pm EST\n(4 Days)\n\n\n\n\n\n\n\n\n\n\n\n\n\n\nCost: \n$495.00\n\n\nLocation: \n2750 Morris Road\, Lansdale\, PA 19446\n\n\n\n\n\n\nREGISTER \nThe OSHA Outreach Training Program provides training on the recognition\, avoidance\, abatement\, and prevention of workplace hazards. Outreach classes also provide overview information regarding OSHA\, including workers’ rights\, employer responsibilities\, and how to file a complaint. \nThe 4-day\, 30-Hour training program is intended to provide workers with some safety responsibility a greater depth and variety of training. This outreach training is intended to cover an overview of the hazards a worker may encounter on a job site. Training emphasizes hazard identification\, avoidance\, control and prevention\, not OSHA standards. \n\n\n\n\nProgram Benefits\n\n\n\n\n\n\n\nPromotes safety culture through peer conversations\nTraining is participatory\, using hands-on activities\nOutreach training content includes hazard recognition and avoidance\, workers’ rights\, employer responsibilities\, and how to file a complaint; it emphasizes the value of safety and health to workers\, including young workers\n\n*This course includes box lunch\, access to all course materials\, and OSHA 30 Card* \n\n\nYour Presenter\n\n\n\n\n\n\n\n\nTiffany L. Carter is a highly skilled safety instructor with over 15 years of experience in the construction industry. She excels in designing and delivering effective training programs to various audiences. Tiffany holds multiple safety certifications\, including OSHA Construction Safety and Health\, CPR\, and First Aid. Her expertise in safety training and regulatory compliance makes her an invaluable asset in fostering a culture of safety. \n\n\n\n\n\n\n\n\n\n\n\n\n\n30-Hour Course Agenda\n\n\n\n\n\n\nDay 1 \n\nIntroduction to OSHA\nFall Protection\nElectrical Safety\nHealth Hazards in Construction\nPersonal Protective Equipment\n\n\n\n\n\n\n\n\n\nDay 2 \n\nManaging Safety and Health\nHand & Power Tools\nConfined Space\nMaterials Handling\, Storage\, Use and Disposal\n\n\n\n\n\n\n\n\n\nDay 3 \n\nCranes & Rigging\nFire Protective and Prevention\nErgonomics\n\n\n\n\n\n\n\n\n\nDay 4 \n\nExcavation & Trench Safety\nScaffolds\nCaught In or Between Objects\nStruck By Object
URL:https://macsc.org/event/osha-30-hour-construction-training/
LOCATION:Compliance Management International\, 2750 Morris Road\, Lansdale\, PA\, 19446
CATEGORIES:Training
END:VEVENT
END:VCALENDAR