BEGIN:VCALENDAR
VERSION:2.0
PRODID:-//Mid-Atlantic Construction Safety Council - ECPv6.15.20//NONSGML v1.0//EN
CALSCALE:GREGORIAN
METHOD:PUBLISH
X-WR-CALNAME:Mid-Atlantic Construction Safety Council
X-ORIGINAL-URL:https://macsc.org
X-WR-CALDESC:Events for Mid-Atlantic Construction Safety Council
REFRESH-INTERVAL;VALUE=DURATION:PT1H
X-Robots-Tag:noindex
X-PUBLISHED-TTL:PT1H
BEGIN:VTIMEZONE
TZID:America/New_York
BEGIN:DAYLIGHT
TZOFFSETFROM:-0500
TZOFFSETTO:-0400
TZNAME:EDT
DTSTART:20230312T070000
END:DAYLIGHT
BEGIN:STANDARD
TZOFFSETFROM:-0400
TZOFFSETTO:-0500
TZNAME:EST
DTSTART:20231105T060000
END:STANDARD
BEGIN:DAYLIGHT
TZOFFSETFROM:-0500
TZOFFSETTO:-0400
TZNAME:EDT
DTSTART:20240310T070000
END:DAYLIGHT
BEGIN:STANDARD
TZOFFSETFROM:-0400
TZOFFSETTO:-0500
TZNAME:EST
DTSTART:20241103T060000
END:STANDARD
BEGIN:DAYLIGHT
TZOFFSETFROM:-0500
TZOFFSETTO:-0400
TZNAME:EDT
DTSTART:20250309T070000
END:DAYLIGHT
BEGIN:STANDARD
TZOFFSETFROM:-0400
TZOFFSETTO:-0500
TZNAME:EST
DTSTART:20251102T060000
END:STANDARD
END:VTIMEZONE
BEGIN:VEVENT
DTSTART;TZID=America/New_York:20241023T120000
DTEND;TZID=America/New_York:20241023T130000
DTSTAMP:20260425T124119
CREATED:20241008T004536Z
LAST-MODIFIED:20241008T004808Z
UID:6679-1729684800-1729688400@macsc.org
SUMMARY:OSHA's Top 10 presented by Compliance Management International
DESCRIPTION:Employers need to keep top of mind the OSHA programs that are not only cited most frequently\, but also have the potential for injury. Join this webinar to hear about the most cited OSHA programs and learn your responsibility as an employer. We’ll also talk about risk and compliance and where employers should focus their efforts.  \n  \nWho Should Attend? \n-Operations and Facility Managers \n-Plant Managers \n-EHS Specialists and Representatives \n-Human Resources \n  \nFeel free to invite your colleagues! \nFree to Enroll
URL:https://macsc.org/event/oshas-top-10-presented-by-compliance-management-international/
LOCATION:Webinar
CATEGORIES:Training
END:VEVENT
END:VCALENDAR