BEGIN:VCALENDAR
VERSION:2.0
PRODID:-//Mid-Atlantic Construction Safety Council - ECPv6.15.20//NONSGML v1.0//EN
CALSCALE:GREGORIAN
METHOD:PUBLISH
X-WR-CALNAME:Mid-Atlantic Construction Safety Council
X-ORIGINAL-URL:https://macsc.org
X-WR-CALDESC:Events for Mid-Atlantic Construction Safety Council
REFRESH-INTERVAL;VALUE=DURATION:PT1H
X-Robots-Tag:noindex
X-PUBLISHED-TTL:PT1H
BEGIN:VTIMEZONE
TZID:America/New_York
BEGIN:DAYLIGHT
TZOFFSETFROM:-0500
TZOFFSETTO:-0400
TZNAME:EDT
DTSTART:20250309T070000
END:DAYLIGHT
BEGIN:STANDARD
TZOFFSETFROM:-0400
TZOFFSETTO:-0500
TZNAME:EST
DTSTART:20251102T060000
END:STANDARD
BEGIN:DAYLIGHT
TZOFFSETFROM:-0500
TZOFFSETTO:-0400
TZNAME:EDT
DTSTART:20260308T070000
END:DAYLIGHT
BEGIN:STANDARD
TZOFFSETFROM:-0400
TZOFFSETTO:-0500
TZNAME:EST
DTSTART:20261101T060000
END:STANDARD
BEGIN:DAYLIGHT
TZOFFSETFROM:-0500
TZOFFSETTO:-0400
TZNAME:EDT
DTSTART:20270314T070000
END:DAYLIGHT
BEGIN:STANDARD
TZOFFSETFROM:-0400
TZOFFSETTO:-0500
TZNAME:EST
DTSTART:20271107T060000
END:STANDARD
END:VTIMEZONE
BEGIN:VEVENT
DTSTART;TZID=America/New_York:20260514T073000
DTEND;TZID=America/New_York:20260514T123000
DTSTAMP:20260421T154036
CREATED:20260416T172247Z
LAST-MODIFIED:20260420T173442Z
UID:7613-1778743800-1778761800@macsc.org
SUMMARY:Fall Protection Equipment Inspection Training Session
DESCRIPTION:Join GBCA\, the Philadelphia Building Trades Safety Committee (PBTSC)\, the Mid-Atlantic Safety Committee (MACSC)\, and the Philadelphia Area Labor Management Committee (PALM BUILT-RITE) for a comprehensive half-day workshop on examining fall protection gear. Discover how these organizations collaborate to eliminate faulty equipment on Philadelphia Metro Area worksites\, aligning with OSHA’s National Stand Down to Prevent Falls initiative. Training will be delivered by Subject Matter Experts and Equipment Manufacturers. \nAttendees will earn a Certificate of Participation for four hours of Fall Protection Awareness Training. This is a FREE event.  \nPlease Consider Sending Your Front-Line Supervisors/Safety Reps. \nMay 14\, 20206\nThe Alan Horwitz “Sixth Man” Center\n4250 Wissahickon Avenue\,\nPhiladelphia\, PA 19129 \nThis collaborative event will examine how industry partners are working together to remove faulty equipment from Philadelphia-area jobsites\, supporting OSHA’s National Stand-Down to Prevent Falls initiative. \nALL ARE WELCOME!\nRegister here >>>
URL:https://macsc.org/event/fall-protection-equipment-inspection-training-session-2/
LOCATION:The Alan Horwitz “Sixth Man” Center\, 4250 Wissahickon Avenue\,\, Philadelphia\, PA\, 19129\, United States
CATEGORIES:Training
END:VEVENT
END:VCALENDAR